BEGIN:VCALENDAR
PRODID:-//Riksbanken//riksbanken.se//SV
VERSION:2.0
BEGIN:VEVENT
DTSTART:20140127T230000Z
DTSTAMP:20260423T133438Z
UID:53ac785b771a4fefba5e84a73010c9a1
CREATED:20260423T133438Z
DESCRIPTION:Information sharing, credit market competition and loan performance
LAST-MODIFIED:20260423T133438Z
LOCATION:
SEQUENCE:0
STATUS:CONFIRMED
SUMMARY:Jaap Bos, Maastricht University 
TRANSP:OPAQUE
END:VEVENT
END:VCALENDAR
