BEGIN:VCALENDAR
PRODID:-//Riksbanken//riksbanken.se//SV
VERSION:2.0
BEGIN:VEVENT
DTSTART:20140211T120000Z
DTSTAMP:20260423T111410Z
UID:b1372920aeee4ef5b18f199e2fd9e531
CREATED:20260423T111410Z
DESCRIPTION:Buying First or Selling First? Buyer-Seller Decisions and Housing Market Volatility
LAST-MODIFIED:20260423T111410Z
LOCATION:
SEQUENCE:0
STATUS:CONFIRMED
SUMMARY:Plamen Nenov, Norwegian Business School 
TRANSP:OPAQUE
END:VEVENT
END:VCALENDAR
