BEGIN:VCALENDAR
PRODID:-//Riksbanken//riksbanken.se//SV
VERSION:2.0
BEGIN:VEVENT
DTSTART:20140218T080000Z
DTSTAMP:20260423T111410Z
UID:17e80eaa2f3a4cce81786a34acdde7f1
CREATED:20260423T111410Z
DESCRIPTION:TBA
LAST-MODIFIED:20260423T111410Z
LOCATION:
SEQUENCE:0
STATUS:CONFIRMED
SUMMARY:Viral Acharya, NYU Stern
TRANSP:OPAQUE
END:VEVENT
END:VCALENDAR
