BEGIN:VCALENDAR
PRODID:-//Riksbanken//riksbanken.se//SV
VERSION:2.0
BEGIN:VEVENT
DTSTART:20140303T230000Z
DTSTAMP:20260423T210246Z
UID:10ca9a43d55e4085a80dc819d949529d
CREATED:20260423T210246Z
DESCRIPTION:Inventories and the Role of Goods-Market Frictions for Business Cycles
LAST-MODIFIED:20260423T210246Z
LOCATION:
SEQUENCE:0
STATUS:CONFIRMED
SUMMARY:Wouter den Haan, LSE
TRANSP:OPAQUE
END:VEVENT
END:VCALENDAR
