BEGIN:VCALENDAR
PRODID:-//Riksbanken//riksbanken.se//SV
VERSION:2.0
BEGIN:VEVENT
DTSTART:20140307T120000Z
DTSTAMP:20260423T210246Z
UID:11fdf9de2b944f228570453af1129153
CREATED:20260423T210246Z
DESCRIPTION:How Subprime Borrowers and Mortgage Brokers Shared the Pie
LAST-MODIFIED:20260423T210246Z
LOCATION:
SEQUENCE:0
STATUS:CONFIRMED
SUMMARY:Patrik Sandås, University of Virginia
TRANSP:OPAQUE
END:VEVENT
END:VCALENDAR
