BEGIN:VCALENDAR
PRODID:-//Riksbanken//riksbanken.se//SV
VERSION:2.0
BEGIN:VEVENT
DTSTART:20140310T230000Z
DTSTAMP:20260423T210245Z
UID:ca33b3fe19e147238fd997e0d606396b
CREATED:20260423T210245Z
DESCRIPTION:The Market for OTC Derivatives
LAST-MODIFIED:20260423T210245Z
LOCATION:
SEQUENCE:0
STATUS:CONFIRMED
SUMMARY:Pierre-Olivier Weill, UCLA
TRANSP:OPAQUE
END:VEVENT
END:VCALENDAR
