BEGIN:VCALENDAR
PRODID:-//Riksbanken//riksbanken.se//SV
VERSION:2.0
BEGIN:VEVENT
DTSTART:20140317T230000Z
DTSTAMP:20260423T210246Z
UID:61c01d83a1cf4fc78ec1b89746058380
CREATED:20260423T210246Z
DESCRIPTION:Mortgage Companies and Regulatory Arbitrage
LAST-MODIFIED:20260423T210246Z
LOCATION:
SEQUENCE:0
STATUS:CONFIRMED
SUMMARY:Elena Loutskina, University of Virginia
TRANSP:OPAQUE
END:VEVENT
END:VCALENDAR
