BEGIN:VCALENDAR
PRODID:-//Riksbanken//riksbanken.se//SV
VERSION:2.0
BEGIN:VEVENT
DTSTART:20140325T120000Z
DTSTAMP:20260423T210246Z
UID:63cd40603e96490da4a9e0ff37727d66
CREATED:20260423T210246Z
DESCRIPTION:The Transmission of Monetary Policy Operations through Redistributions and Durable Purchases
LAST-MODIFIED:20260423T210246Z
LOCATION:
SEQUENCE:0
STATUS:CONFIRMED
SUMMARY:Silvana Tenreyro, LSE
TRANSP:OPAQUE
END:VEVENT
END:VCALENDAR
