BEGIN:VCALENDAR
PRODID:-//Riksbanken//riksbanken.se//SV
VERSION:2.0
BEGIN:VEVENT
DTSTART:20140401T070000Z
DTSTAMP:20260423T120122Z
UID:b1bffa2c4ca643169e1fa7bb02708c43
CREATED:20260423T120122Z
DESCRIPTION:Bank Regulation: Management Compensation and Capital
LAST-MODIFIED:20260423T120122Z
LOCATION:
SEQUENCE:0
STATUS:CONFIRMED
SUMMARY:Gyongyi Loranth, University of Vienna 
TRANSP:OPAQUE
END:VEVENT
END:VCALENDAR
