BEGIN:VCALENDAR
PRODID:-//Riksbanken//riksbanken.se//SV
VERSION:2.0
BEGIN:VEVENT
DTSTART:20140408T110000Z
DTSTAMP:20260423T120123Z
UID:eb515e2f5f8e41a9b09b0e6374be409c
CREATED:20260423T120123Z
DESCRIPTION:In the Land of Foreign Currency Lending: Does a Bank Balance Sheet Channel Run Through?
LAST-MODIFIED:20260423T120123Z
LOCATION:
SEQUENCE:0
STATUS:CONFIRMED
SUMMARY:Ibolya Schindele, Central Bank of Hungary
TRANSP:OPAQUE
END:VEVENT
END:VCALENDAR
