BEGIN:VCALENDAR
PRODID:-//Riksbanken//riksbanken.se//SV
VERSION:2.0
BEGIN:VEVENT
DTSTART:20140409T090000Z
DTSTAMP:20260423T120219Z
UID:fa6f1b4bbb654ad7a39402b9fbfe1254
CREATED:20260423T120219Z
DESCRIPTION:Financial distress and endogenous uncertainty
LAST-MODIFIED:20260423T120219Z
LOCATION:
SEQUENCE:0
STATUS:CONFIRMED
SUMMARY:Francois Gourio, Boston University
TRANSP:OPAQUE
END:VEVENT
END:VCALENDAR
