BEGIN:VCALENDAR
PRODID:-//Riksbanken//riksbanken.se//SV
VERSION:2.0
BEGIN:VEVENT
DTSTART:20140422T110000Z
DTSTAMP:20260423T120220Z
UID:e42b78c12f654edda3388d48381c27b5
CREATED:20260423T120220Z
DESCRIPTION:TBA
LAST-MODIFIED:20260423T120220Z
LOCATION:
SEQUENCE:0
STATUS:CONFIRMED
SUMMARY:Arvind Krishnamurthy, Kellogg School of Management
TRANSP:OPAQUE
END:VEVENT
END:VCALENDAR
