BEGIN:VCALENDAR
PRODID:-//Riksbanken//riksbanken.se//SV
VERSION:2.0
BEGIN:VEVENT
DTSTART:20140423T090000Z
DTSTAMP:20260423T120149Z
UID:bc081e860e32474a988bf229f8e19122
CREATED:20260423T120149Z
DESCRIPTION:Capital, Government Guarantees, and Mortgage Securitization
LAST-MODIFIED:20260423T120149Z
LOCATION:
SEQUENCE:0
STATUS:CONFIRMED
SUMMARY:Wayne Passmore, Federal Reserve Board
TRANSP:OPAQUE
END:VEVENT
END:VCALENDAR
