BEGIN:VCALENDAR
PRODID:-//Riksbanken//riksbanken.se//SV
VERSION:2.0
BEGIN:VEVENT
DTSTART:20140506T110000Z
DTSTAMP:20260423T104615Z
UID:0bd9326851de4b31bedaba89c5cd1316
CREATED:20260423T104615Z
DESCRIPTION:Signaling effects of monetary policy
LAST-MODIFIED:20260423T104615Z
LOCATION:
SEQUENCE:0
STATUS:CONFIRMED
SUMMARY:Leonardo Melosi, Federal Reserve Bank of Chicago
TRANSP:OPAQUE
END:VEVENT
END:VCALENDAR
