BEGIN:VCALENDAR
PRODID:-//Riksbanken//riksbanken.se//SV
VERSION:2.0
BEGIN:VEVENT
DTSTART:20140508T110000Z
DTSTAMP:20260423T104616Z
UID:d3430ce05a734d7dbb2482840993890c
CREATED:20260423T104616Z
DESCRIPTION:Breaking the Curse of Kareken and Wallace
LAST-MODIFIED:20260423T104616Z
LOCATION:
SEQUENCE:0
STATUS:CONFIRMED
SUMMARY:Christopher J. Waller, Federal Reserve Bank of St. Louis
TRANSP:OPAQUE
END:VEVENT
END:VCALENDAR
