BEGIN:VCALENDAR
PRODID:-//Riksbanken//riksbanken.se//SV
VERSION:2.0
BEGIN:VEVENT
DTSTART:20140515T110000Z
DTSTAMP:20260423T104732Z
UID:91e026c7b1d0410c9211db7afa9981f7
CREATED:20260423T104732Z
DESCRIPTION:How Much do Bank Shocks Affect Investment? Evidence from Matched Bank-Firm Loan Data
LAST-MODIFIED:20260423T104732Z
LOCATION:
SEQUENCE:0
STATUS:CONFIRMED
SUMMARY:Mary Amiti, Federal Reserve Bank of New York
TRANSP:OPAQUE
END:VEVENT
END:VCALENDAR
