BEGIN:VCALENDAR
PRODID:-//Riksbanken//riksbanken.se//SV
VERSION:2.0
BEGIN:VEVENT
DTSTART:20140520T110000Z
DTSTAMP:20260423T104647Z
UID:4e9474b9ca1044459708bd0e3c96b994
CREATED:20260423T104647Z
DESCRIPTION:High Frequency Traders: Taking Advantage of Speed
LAST-MODIFIED:20260423T104647Z
LOCATION:
SEQUENCE:0
STATUS:CONFIRMED
SUMMARY:Yacine Ait-Sahalia, Princeton University
TRANSP:OPAQUE
END:VEVENT
END:VCALENDAR
