BEGIN:VCALENDAR
PRODID:-//Riksbanken//riksbanken.se//SV
VERSION:2.0
BEGIN:VEVENT
DTSTART:20140527T110000Z
DTSTAMP:20260423T104709Z
UID:bfab8b1da2fc47abbd3adee6d2dc66ab
CREATED:20260423T104709Z
DESCRIPTION:Money is not Memory: an Experiment
LAST-MODIFIED:20260423T104709Z
LOCATION:
SEQUENCE:0
STATUS:CONFIRMED
SUMMARY:Gabriele Camera, University of Basel and Chapman University
TRANSP:OPAQUE
END:VEVENT
END:VCALENDAR
