BEGIN:VCALENDAR
PRODID:-//Riksbanken//riksbanken.se//SV
VERSION:2.0
BEGIN:VEVENT
DTSTART:20140603T110000Z
DTSTAMP:20260423T133011Z
UID:f0dcc919e37a42afa04bf88f6df33e35
CREATED:20260423T133011Z
DESCRIPTION:Money and Credit
LAST-MODIFIED:20260423T133011Z
LOCATION:
SEQUENCE:0
STATUS:CONFIRMED
SUMMARY:Randall Wright, Wisconsin School of Business
TRANSP:OPAQUE
END:VEVENT
END:VCALENDAR
