BEGIN:VCALENDAR
PRODID:-//Riksbanken//riksbanken.se//SV
VERSION:2.0
BEGIN:VEVENT
DTSTART:20140610T110000Z
DTSTAMP:20260423T210242Z
UID:8f501fb913ca41b7812d99b9eb92cab8
CREATED:20260423T210242Z
DESCRIPTION:Reverse Mortgage Design
LAST-MODIFIED:20260423T210242Z
LOCATION:
SEQUENCE:0
STATUS:CONFIRMED
SUMMARY:Joao Cocco, London Business School
TRANSP:OPAQUE
END:VEVENT
END:VCALENDAR
