BEGIN:VCALENDAR
PRODID:-//Riksbanken//riksbanken.se//SV
VERSION:2.0
BEGIN:VEVENT
DTSTART:20140617T110000Z
DTSTAMP:20260423T132654Z
UID:1e14fbe1ce2849dcb011833032f5e951
CREATED:20260423T132654Z
DESCRIPTION:Merging Simulation and Projection Approaches to Solve High-Dimensional Problems with an Application to a New Keynesian model
LAST-MODIFIED:20260423T132654Z
LOCATION:
SEQUENCE:0
STATUS:CONFIRMED
SUMMARY:Lilia Maliar, Stanford University
TRANSP:OPAQUE
END:VEVENT
END:VCALENDAR
