BEGIN:VCALENDAR
PRODID:-//Riksbanken//riksbanken.se//SV
VERSION:2.0
BEGIN:VEVENT
DTSTART:20140627T070000Z
DTSTAMP:20260423T132654Z
UID:03b8dcbfbeb34b67aca404e6a891f6b9
CREATED:20260423T132654Z
DESCRIPTION:The Zero Lower Bound and Endogenous Uncertainty
LAST-MODIFIED:20260423T132654Z
LOCATION:
SEQUENCE:0
STATUS:CONFIRMED
SUMMARY:Michael Plante, Federal Reserve Bank of Dallas
TRANSP:OPAQUE
END:VEVENT
END:VCALENDAR
