BEGIN:VCALENDAR
PRODID:-//Riksbanken//riksbanken.se//SV
VERSION:2.0
BEGIN:VEVENT
DTSTART:20140902T110000Z
DTSTAMP:20260423T170707Z
UID:0e6790f94df045c288bd4d11a9a07275
CREATED:20260423T170707Z
DESCRIPTION:Relationships in the Interbank Market
LAST-MODIFIED:20260423T170707Z
LOCATION:
SEQUENCE:0
STATUS:CONFIRMED
SUMMARY:Cyril Monnet, University of Bern
TRANSP:OPAQUE
END:VEVENT
END:VCALENDAR
