BEGIN:VCALENDAR
PRODID:-//Riksbanken//riksbanken.se//SV
VERSION:2.0
BEGIN:VEVENT
DTSTART:20140904T110000Z
DTSTAMP:20260423T170713Z
UID:71de7410821845c185404dad715c03f4
CREATED:20260423T170713Z
DESCRIPTION:Forward Guidance, Monetary Policy Uncertainty, and Long-Term Interest Rates
LAST-MODIFIED:20260423T170713Z
LOCATION:
SEQUENCE:0
STATUS:CONFIRMED
SUMMARY:Refet Gurkaynak, Bilkent University
TRANSP:OPAQUE
END:VEVENT
END:VCALENDAR
