BEGIN:VCALENDAR
PRODID:-//Riksbanken//riksbanken.se//SV
VERSION:2.0
BEGIN:VEVENT
DTSTART:20140909T110000Z
DTSTAMP:20260423T170940Z
UID:1ccb635f45904748a1a2206b48e897ae
CREATED:20260423T170940Z
DESCRIPTION:Saving for retirement: interest rate risk and intergenerational redistribution
LAST-MODIFIED:20260423T170940Z
LOCATION:
SEQUENCE:0
STATUS:CONFIRMED
SUMMARY:Michael Reiter, Institute for Advanced Studies
TRANSP:OPAQUE
END:VEVENT
END:VCALENDAR
