BEGIN:VCALENDAR
PRODID:-//Riksbanken//riksbanken.se//SV
VERSION:2.0
BEGIN:VEVENT
DTSTART:20140911T130000Z
DTSTAMP:20260423T170753Z
UID:0cfec42797954b3595fa7e5ac93cbfd6
CREATED:20260423T170753Z
DESCRIPTION:Measuring the Slowly Evolving Trend in US Inflation with Professional Forecasts
LAST-MODIFIED:20260423T170753Z
LOCATION:
SEQUENCE:0
STATUS:CONFIRMED
SUMMARY:James M. Nason, Federal Reserve Bank of Philadelphia
TRANSP:OPAQUE
END:VEVENT
END:VCALENDAR
