BEGIN:VCALENDAR
PRODID:-//Riksbanken//riksbanken.se//SV
VERSION:2.0
BEGIN:VEVENT
DTSTART:20140923T110000Z
DTSTAMP:20260423T170712Z
UID:9605bcbd56574452a5e568e1dde442c8
CREATED:20260423T170712Z
DESCRIPTION:Government Debt and Banking Fragility: The Spreading of Strategic Uncertainty
LAST-MODIFIED:20260423T170712Z
LOCATION:
SEQUENCE:0
STATUS:CONFIRMED
SUMMARY:Kalin Nikolov, ECB
TRANSP:OPAQUE
END:VEVENT
END:VCALENDAR
