BEGIN:VCALENDAR
PRODID:-//Riksbanken//riksbanken.se//SV
VERSION:2.0
BEGIN:VEVENT
DTSTART:20141002T110000Z
DTSTAMP:20260423T104617Z
UID:04b7bbfd407a4560ad6f9cf466b0a960
CREATED:20260423T104617Z
DESCRIPTION:Professional forecasters and the real-time forecasting performance of an estimated new Keynesian model for the euro area
LAST-MODIFIED:20260423T104617Z
LOCATION:
SEQUENCE:0
STATUS:CONFIRMED
SUMMARY:Anders Warne, ECB
TRANSP:OPAQUE
END:VEVENT
END:VCALENDAR
