BEGIN:VCALENDAR
PRODID:-//Riksbanken//riksbanken.se//SV
VERSION:2.0
BEGIN:VEVENT
DTSTART:20141007T110000Z
DTSTAMP:20260423T104646Z
UID:0712932948be4975b084d2a3568d2c6c
CREATED:20260423T104646Z
DESCRIPTION:The Limits of Model Based-Bank Regulation
LAST-MODIFIED:20260423T104646Z
LOCATION:
SEQUENCE:0
STATUS:CONFIRMED
SUMMARY:Rainer Haselmann, University of Bonn
TRANSP:OPAQUE
END:VEVENT
END:VCALENDAR
