BEGIN:VCALENDAR
PRODID:-//Riksbanken//riksbanken.se//SV
VERSION:2.0
BEGIN:VEVENT
DTSTART:20141014T110000Z
DTSTAMP:20260423T104645Z
UID:c08ff886deeb45f18db65582b82efce7
CREATED:20260423T104645Z
DESCRIPTION:Optimality of Monetary Policy in the Euro Area and Policy Delegation
LAST-MODIFIED:20260423T104645Z
LOCATION:
SEQUENCE:0
STATUS:CONFIRMED
SUMMARY:Tatiana Kirsanova, Glasgow University
TRANSP:OPAQUE
END:VEVENT
END:VCALENDAR
