BEGIN:VCALENDAR
PRODID:-//Riksbanken//riksbanken.se//SV
VERSION:2.0
BEGIN:VEVENT
DTSTART:20141021T110000Z
DTSTAMP:20260423T104616Z
UID:1f377db59fd9478a9e367222a6c9eff7
CREATED:20260423T104616Z
DESCRIPTION:Import Competition, Productivity and Multi-Product Firms
LAST-MODIFIED:20260423T104616Z
LOCATION:
SEQUENCE:0
STATUS:CONFIRMED
SUMMARY:Frederic Warzynski, Aarhus University
TRANSP:OPAQUE
END:VEVENT
END:VCALENDAR
