BEGIN:VCALENDAR
PRODID:-//Riksbanken//riksbanken.se//SV
VERSION:2.0
BEGIN:VEVENT
DTSTART:20141028T120000Z
DTSTAMP:20260423T104646Z
UID:88fad56de5924535a3bca66aa9a838bd
CREATED:20260423T104646Z
DESCRIPTION:Speculative Runs on Interest Rate Pegs
LAST-MODIFIED:20260423T104646Z
LOCATION:
SEQUENCE:0
STATUS:CONFIRMED
SUMMARY:Marco Bassetto, UCL
TRANSP:OPAQUE
END:VEVENT
END:VCALENDAR
