BEGIN:VCALENDAR
PRODID:-//Riksbanken//riksbanken.se//SV
VERSION:2.0
BEGIN:VEVENT
DTSTART:20141030T090000Z
DTSTAMP:20260423T104616Z
UID:5db0371d79d742b292c93f5cf6e1208c
CREATED:20260423T104616Z
DESCRIPTION:Understanding the Gains from Wage Flexibility: The Exchange Rate Connection
LAST-MODIFIED:20260423T104616Z
LOCATION:
SEQUENCE:0
STATUS:CONFIRMED
SUMMARY:Jordi Galí, CREI and UPF
TRANSP:OPAQUE
END:VEVENT
END:VCALENDAR
