BEGIN:VCALENDAR
PRODID:-//Riksbanken//riksbanken.se//SV
VERSION:2.0
BEGIN:VEVENT
DTSTART:20141104T120000Z
DTSTAMP:20260423T170032Z
UID:1208cf7b53db4d62a654c4cca83fd1ea
CREATED:20260423T170032Z
DESCRIPTION:Within-Bank Transmission of Real Estate Shocks
LAST-MODIFIED:20260423T170032Z
LOCATION:
SEQUENCE:0
STATUS:CONFIRMED
SUMMARY:Vicente Cunat, LSE
TRANSP:OPAQUE
END:VEVENT
END:VCALENDAR
