BEGIN:VCALENDAR
PRODID:-//Riksbanken//riksbanken.se//SV
VERSION:2.0
BEGIN:VEVENT
DTSTART:20141117T130000Z
DTSTAMP:20260423T170149Z
UID:6259d0b3bd8b43ac98b76309b98dddf5
CREATED:20260423T170149Z
DESCRIPTION:Shadow Banking and Regulation: A Quantitative Assessment
LAST-MODIFIED:20260423T170149Z
LOCATION:
SEQUENCE:0
STATUS:CONFIRMED
SUMMARY:Kevin Moran, Laval University
TRANSP:OPAQUE
END:VEVENT
END:VCALENDAR
