BEGIN:VCALENDAR
PRODID:-//Riksbanken//riksbanken.se//SV
VERSION:2.0
BEGIN:VEVENT
DTSTART:20141118T120000Z
DTSTAMP:20260423T170214Z
UID:5aef759937bb44838b23c810250ea84d
CREATED:20260423T170214Z
DESCRIPTION:The Long and the Short of it: Sovereign Debt Crises and Debt Maturity
LAST-MODIFIED:20260423T170214Z
LOCATION:
SEQUENCE:0
STATUS:CONFIRMED
SUMMARY:Alberto Martin, UPF CREI
TRANSP:OPAQUE
END:VEVENT
END:VCALENDAR
