BEGIN:VCALENDAR
PRODID:-//Riksbanken//riksbanken.se//SV
VERSION:2.0
BEGIN:VEVENT
DTSTART:20141125T120000Z
DTSTAMP:20260423T170149Z
UID:6491833f61a041d6b694a9ca18ee148a
CREATED:20260423T170149Z
DESCRIPTION:Sign Restrictions, Structural Vector Autoregressions, and Useful Prior Information
LAST-MODIFIED:20260423T170149Z
LOCATION:
SEQUENCE:0
STATUS:CONFIRMED
SUMMARY:Christiane Baumeister, Bank of Canada
TRANSP:OPAQUE
END:VEVENT
END:VCALENDAR
