BEGIN:VCALENDAR
PRODID:-//Riksbanken//riksbanken.se//SV
VERSION:2.0
BEGIN:VEVENT
DTSTART:20141202T120000Z
DTSTAMP:20260423T165925Z
UID:15b933f2eb844043ad8376401ffaaee2
CREATED:20260423T165925Z
DESCRIPTION:Entrepreneurs, Legal Institutions and Firm Dynamics
LAST-MODIFIED:20260423T165925Z
LOCATION:
SEQUENCE:0
STATUS:CONFIRMED
SUMMARY:Anne Villamil, University of Iowa
TRANSP:OPAQUE
END:VEVENT
END:VCALENDAR
