BEGIN:VCALENDAR
PRODID:-//Riksbanken//riksbanken.se//SV
VERSION:2.0
BEGIN:VEVENT
DTSTART:20141216T120000Z
DTSTAMP:20260423T170118Z
UID:f00470e3a9a2409d8ca4b378da2e9fe7
CREATED:20260423T170118Z
DESCRIPTION:A Welfare Criterion for Models with Distorted Beliefs
LAST-MODIFIED:20260423T170118Z
LOCATION:
SEQUENCE:0
STATUS:CONFIRMED
SUMMARY:Alp Simsek, MIT
TRANSP:OPAQUE
END:VEVENT
END:VCALENDAR
