BEGIN:VCALENDAR
PRODID:-//Riksbanken//riksbanken.se//SV
VERSION:2.0
BEGIN:VEVENT
DTSTART:20141219T120000Z
DTSTAMP:20260423T170118Z
UID:3109326df91a45d38837fdab799e8f21
CREATED:20260423T170118Z
DESCRIPTION:Addressing Household Indebtedness: Monetary, Fiscal or Macroprudential Policy?
LAST-MODIFIED:20260423T170118Z
LOCATION:
SEQUENCE:0
STATUS:CONFIRMED
SUMMARY:Sami Alpanda, Bank of Canada
TRANSP:OPAQUE
END:VEVENT
END:VCALENDAR
