BEGIN:VCALENDAR
PRODID:-//Riksbanken//riksbanken.se//SV
VERSION:2.0
BEGIN:VEVENT
DTSTART:20150421T110000Z
DTSTAMP:20260419T232756Z
UID:1fa5d70c50024020816e03b50dd66c19
CREATED:20260419T232756Z
DESCRIPTION:Monetary Policy Consequences of Central-Bank Balance Sheet
LAST-MODIFIED:20260419T232756Z
LOCATION:
SEQUENCE:0
STATUS:CONFIRMED
SUMMARY:Pierpaolo Benigno, Luiss
TRANSP:OPAQUE
END:VEVENT
END:VCALENDAR
