BEGIN:VCALENDAR
PRODID:-//Riksbanken//riksbanken.se//SV
VERSION:2.0
BEGIN:VEVENT
DTSTART:20150113T120000Z
DTSTAMP:20260419T185143Z
UID:ae87ba98d0d744bf859961b2e9f9708c
CREATED:20260419T185143Z
DESCRIPTION:When you need it or when I die? Timing of monetary transfers from parents to children
LAST-MODIFIED:20260419T185143Z
LOCATION:
SEQUENCE:0
STATUS:CONFIRMED
SUMMARY:Rob Alessie, University of Groningen
TRANSP:OPAQUE
END:VEVENT
END:VCALENDAR
