BEGIN:VCALENDAR
PRODID:-//Riksbanken//riksbanken.se//SV
VERSION:2.0
BEGIN:VEVENT
DTSTART:20150116T120000Z
DTSTAMP:20260419T185013Z
UID:90e338d57b7a4370bf749f6533297668
CREATED:20260419T185013Z
DESCRIPTION:Does Trading Anonymously Enhance Liquidity?
LAST-MODIFIED:20260419T185013Z
LOCATION:
SEQUENCE:0
STATUS:CONFIRMED
SUMMARY:Patrik Sandås, University of Virginia
TRANSP:OPAQUE
END:VEVENT
END:VCALENDAR
