BEGIN:VCALENDAR
PRODID:-//Riksbanken//riksbanken.se//SV
VERSION:2.0
BEGIN:VEVENT
DTSTART:20150120T120000Z
DTSTAMP:20260419T185046Z
UID:f9997bddc49a4cf9bd6e1beb65a22d7f
CREATED:20260419T185046Z
DESCRIPTION:Sovereign stress, non-conventional monetary policy, and SME access to finance
LAST-MODIFIED:20260419T185046Z
LOCATION:
SEQUENCE:0
STATUS:CONFIRMED
SUMMARY:Alexander Popov, ECB
TRANSP:OPAQUE
END:VEVENT
END:VCALENDAR
