BEGIN:VCALENDAR
PRODID:-//Riksbanken//riksbanken.se//SV
VERSION:2.0
BEGIN:VEVENT
DTSTART:20150127T120000Z
DTSTAMP:20260419T185039Z
UID:8b316cc910b247729b8db6e4cbd65356
CREATED:20260419T185039Z
DESCRIPTION:Financial Heterogeneity and Monetary Union
LAST-MODIFIED:20260419T185039Z
LOCATION:
SEQUENCE:0
STATUS:CONFIRMED
SUMMARY:Jae Sim, Federal Reserve Board
TRANSP:OPAQUE
END:VEVENT
END:VCALENDAR
