BEGIN:VCALENDAR
PRODID:-//Riksbanken//riksbanken.se//SV
VERSION:2.0
BEGIN:VEVENT
DTSTART:20150203T120000Z
DTSTAMP:20260424T233411Z
UID:dee351cb68394c759d11d065d31a963e
CREATED:20260424T233411Z
DESCRIPTION:TBA
LAST-MODIFIED:20260424T233411Z
LOCATION:
SEQUENCE:0
STATUS:CONFIRMED
SUMMARY:Jonathan Heathcote, Federal Reserve Bank of Minneapolis
TRANSP:OPAQUE
END:VEVENT
END:VCALENDAR
