BEGIN:VCALENDAR
PRODID:-//Riksbanken//riksbanken.se//SV
VERSION:2.0
BEGIN:VEVENT
DTSTART:20150224T120000Z
DTSTAMP:20260424T233405Z
UID:a3b0fe7d2dbc45bca9023c6c7b47c87d
CREATED:20260424T233405Z
DESCRIPTION:Searching for Information
LAST-MODIFIED:20260424T233405Z
LOCATION:
SEQUENCE:0
STATUS:CONFIRMED
SUMMARY:Francesco Sangiorgi (SSE) and Jungsuk Han (SSE)
TRANSP:OPAQUE
END:VEVENT
END:VCALENDAR
