BEGIN:VCALENDAR
PRODID:-//Riksbanken//riksbanken.se//SV
VERSION:2.0
BEGIN:VEVENT
DTSTART:20150303T120000Z
DTSTAMP:20260419T233723Z
UID:f4552a7dbc3147aabf255606134ceb16
CREATED:20260419T233723Z
DESCRIPTION:Cash-in-the-Market Asset Pricing in a Monetary Model with Over-the-Counter Asset Markets
LAST-MODIFIED:20260419T233723Z
LOCATION:
SEQUENCE:0
STATUS:CONFIRMED
SUMMARY:Fabrizio Mattesini, Tor Vergata, Rome
TRANSP:OPAQUE
END:VEVENT
END:VCALENDAR
