BEGIN:VCALENDAR
PRODID:-//Riksbanken//riksbanken.se//SV
VERSION:2.0
BEGIN:VEVENT
DTSTART:20150310T120000Z
DTSTAMP:20260419T233439Z
UID:fa61236ae5bc46a6afa6908071245e9a
CREATED:20260419T233439Z
DESCRIPTION:Inflation Expectations and Behavior: Do Survey Respondents Act on their Beliefs?
LAST-MODIFIED:20260419T233439Z
LOCATION:
SEQUENCE:0
STATUS:CONFIRMED
SUMMARY:Wilbert Van Der Klaauw, Federal Reserve Bank of New York
TRANSP:OPAQUE
END:VEVENT
END:VCALENDAR
