BEGIN:VCALENDAR
PRODID:-//Riksbanken//riksbanken.se//SV
VERSION:2.0
BEGIN:VEVENT
DTSTART:20150311T090000Z
DTSTAMP:20260419T233608Z
UID:44c36518b09a46caabd6d7ed1f9820b8
CREATED:20260419T233608Z
DESCRIPTION:Transitory interest-rate pegs under imperfect credibility
LAST-MODIFIED:20260419T233608Z
LOCATION:
SEQUENCE:0
STATUS:CONFIRMED
SUMMARY:Richard Harrison, Bank of England
TRANSP:OPAQUE
END:VEVENT
END:VCALENDAR
